BEGIN:VCALENDAR
VERSION:2.0
PRODID:-//Telerik Inc.//NONSGML RadScheduler//EN
METHOD:PUBLISH
BEGIN:VEVENT
DTSTART:20210322T203000Z
DTEND:20210322T223000Z
UID:20210509T155542Z-
DTSTAMP:20210509T155542Z
LOCATION:VIRTUAL   
SUMMARY:Philadelphia Bar Association District Attorney Candidates’ Forum
DESCRIPTION:\n\n\nJoin us at this virtual forum with the three candidates for Philadelphia District Attorney\n\n\n\n\n\nAbout this Event\n\n&nbsp;\n\n\n\nPhiladelphia District Attorney candidates&nbsp;Larry Krasner,&nbsp;Carlos Vega&nbsp;and&nbsp;Charles Peruto, Jr., will join us Monday, March 22 for a virtual Candidates&rsquo; Forum from 4:30-6:30 p.m. Incumbent Krasner faces Vega in the May Democratic primary and Peruto is running as a Republican.\nThe forum will be moderated by&nbsp;Riley Ross,&nbsp;chair of the Board of Governors. He will ask prepared questions and also take select questions from the audience submitted through the Webinar Q/A feature.\nThis is your chance to hear from all three candidates and make an informed decision at the ballot box.\n*** This live Zoom webinar is free and open to the public, but registration is required.\nRegistration will close 60 minutes prior to the event's start time and only registered attendees will receive the webinar ID and password immediately after registration closes.\nCLICK HERE TO REGISTER!!\n&nbsp;\n&nbsp;\n&nbsp;\n&nbsp;
END:VEVENT
END:VCALENDAR
